BEGIN:VCALENDAR
VERSION:2.0
PRODID:-//www.umwfoundation.org//NONSGML kigkonsult.se iCalcreator 2.30.10/
 /
CALSCALE:GREGORIAN
METHOD:PUBLISH
UID:38850c24-8d79-46ae-bb56-4f9864e6f304
X-WR-CALDESC:The Play That Goes Wrong is a farcical murder mystery\, a play
  within a play\, conceived and performed by award-winning company Theatre 
 Mischief. It was first published as a one-act play and is published in thi
 s new edition as a two-act play.
X-WR-RELCALID:2b75bc3fc2468464a944505ca4fcd74f
X-WR-TIMEZONE:America/Denver
BEGIN:VTIMEZONE
TZID:America/Denver
BEGIN:STANDARD
TZNAME:MST
DTSTART:20251102T020000
TZOFFSETFROM:-0600
TZOFFSETTO:-0700
RDATE:20261101T020000
END:STANDARD
BEGIN:DAYLIGHT
TZNAME:MDT
DTSTART:20260308T020000
TZOFFSETFROM:-0700
TZOFFSETTO:-0600
RDATE:20270314T020000
END:DAYLIGHT
END:VTIMEZONE
BEGIN:VEVENT
UID:5b5e9614-da75-4115-8ede-5e1dca074172
DTSTAMP:20260420T025611Z
DESCRIPTION:The Play That Goes Wrong is a farcical murder mystery\, a play 
 within a play\, conceived and performed by award-winning company Theatre M
 ischief. It was first published as a one-act play and is published in this
  new edition as a two-act play.
DTSTART;TZID=America/Denver:20260416T040000
DTEND;TZID=America/Denver:20260502T040001
LOCATION:Beier Auditorium - Main Hall\, Montana Western campus
SUMMARY:The Play That Goes Wrong
END:VEVENT
END:VCALENDAR
