BEGIN:VCALENDAR
VERSION:2.0
PRODID:-//www.umwfoundation.org//NONSGML kigkonsult.se iCalcreator 2.30.10/
 /
CALSCALE:GREGORIAN
METHOD:PUBLISH
UID:34085e06-0ee5-405c-95ee-5e6a27a5314f
X-WR-CALDESC:The Bulldog Bash raises funds to provide scholarship support f
 or Montana Western student athletes\, fund projects to enhance our facilit
 ies\, and other aspects of the student athlete experience. In addition to 
 providing financial support to our programs\, this event is a great opport
 unity for our boosters\, community members\, and families to connect with 
 each other and our staff. \n\n5 p.m. -  Cocktails & Social\n5:30 p.m. - Di
 nner and Auction
X-WR-RELCALID:2fb76ef1a71535dc464be8aedf683c80
X-WR-TIMEZONE:America/Denver
BEGIN:VTIMEZONE
TZID:America/Denver
BEGIN:STANDARD
TZNAME:MST
DTSTART:20231105T020000
TZOFFSETFROM:-0600
TZOFFSETTO:-0700
RDATE:20241103T020000
RDATE:20251102T020000
END:STANDARD
BEGIN:DAYLIGHT
TZNAME:MDT
DTSTART:20240310T020000
TZOFFSETFROM:-0700
TZOFFSETTO:-0600
RDATE:20250309T020000
RDATE:20260308T020000
END:DAYLIGHT
END:VTIMEZONE
BEGIN:VEVENT
UID:8c2567d1-c94c-4fca-9207-68cb48a32010
DTSTAMP:20260419T232317Z
DESCRIPTION:The Bulldog Bash raises funds to provide scholarship support fo
 r Montana Western student athletes\, fund projects to enhance our faciliti
 es\, and other aspects of the student athlete experience. In addition to p
 roviding financial support to our programs\, this event is a great opportu
 nity for our boosters\, community members\, and families to connect with e
 ach other and our staff. \n\n5 p.m. -  Cocktails & Social\n5:30 p.m. - Din
 ner and Auction
DTSTART;TZID=America/Denver:20241012T170000
DTEND;TZID=America/Denver:20241012T230000
LOCATION:Keltz Arena - Montana Western campus
SUMMARY:Bulldog Bash
END:VEVENT
END:VCALENDAR
