BEGIN:VCALENDAR
VERSION:2.0
PRODID:-//www.umwfoundation.org//NONSGML kigkonsult.se iCalcreator 2.30.10/
 /
CALSCALE:GREGORIAN
METHOD:PUBLISH
UID:90e46844-e09d-4d61-8afa-e56a288d71bb
X-WR-CALDESC:All alumni and guests are invited to gather on Legacy Plaza as
  we officially welcome the Class of 2026 into the Bulldog alumni family. T
 his campus tradition recognizes graduating seniors as they transition from
  students to alumni.\n\nThe UMW Foundation will be serving hot dogs\, Sip4
 06 will be on site with no-host beverages\, and the Polynesian Club will p
 rovide special performances. During the celebration\, members of the Class
  of 2026 will receive their commemorative class brick\, marking their plac
 e on campus and in Montana Western history!\n\n
X-WR-RELCALID:24f6212d2224094c359e4b6e6ae894a3
X-WR-TIMEZONE:America/Denver
BEGIN:VTIMEZONE
TZID:America/Denver
BEGIN:STANDARD
TZNAME:MST
DTSTART:20251102T020000
TZOFFSETFROM:-0600
TZOFFSETTO:-0700
RDATE:20261101T020000
RDATE:20271107T020000
END:STANDARD
BEGIN:DAYLIGHT
TZNAME:MDT
DTSTART:20260308T020000
TZOFFSETFROM:-0700
TZOFFSETTO:-0600
RDATE:20270314T020000
END:DAYLIGHT
END:VTIMEZONE
BEGIN:VEVENT
UID:f7560fb1-00d0-457c-a6e2-dddcc0e7af5f
DTSTAMP:20260420T082838Z
DESCRIPTION:All alumni and guests are invited to gather on Legacy Plaza as 
 we officially welcome the Class of 2026 into the Bulldog alumni family. Th
 is campus tradition recognizes graduating seniors as they transition from 
 students to alumni.\n\nThe UMW Foundation will be serving hot dogs\, Sip40
 6 will be on site with no-host beverages\, and the Polynesian Club will pr
 ovide special performances. During the celebration\, members of the Class 
 of 2026 will receive their commemorative class brick\, marking their place
  on campus and in Montana Western history!\n\n
DTSTART;TZID=America/Denver:20260508T153000
DTEND;TZID=America/Denver:20260508T163000
LOCATION:Legacy Plaza - Montana Western campus
SUMMARY:Legacy Plaza Celebration
END:VEVENT
END:VCALENDAR
