BEGIN:VCALENDAR
VERSION:2.0
PRODID:-//www.umwfoundation.org//NONSGML kigkonsult.se iCalcreator 2.30.10/
 /
CALSCALE:GREGORIAN
METHOD:PUBLISH
UID:207ce44e-427a-4f80-bf60-8a1f79356c3c
X-WR-CALDESC:
X-WR-RELCALID:de137679aabef7e6e8ae29a129e76b81
X-WR-TIMEZONE:America/Denver
BEGIN:VTIMEZONE
TZID:America/Denver
BEGIN:STANDARD
TZNAME:MST
DTSTART:20251102T020000
TZOFFSETFROM:-0600
TZOFFSETTO:-0700
RDATE:20261101T020000
RDATE:20271107T020000
END:STANDARD
BEGIN:DAYLIGHT
TZNAME:MDT
DTSTART:20260308T020000
TZOFFSETFROM:-0700
TZOFFSETTO:-0600
RDATE:20270314T020000
END:DAYLIGHT
END:VTIMEZONE
BEGIN:VEVENT
UID:3b386c20-7dec-4eb1-bf80-e51e29f0c654
DTSTAMP:20260420T082602Z
DESCRIPTION:
DTSTART;TZID=America/Denver:20260509T100000
DTEND;TZID=America/Denver:20260509T120000
LOCATION:Bulldog Stadium - Montana Western campus
SUMMARY:Montana Western Annual Commencement Ceremony
END:VEVENT
END:VCALENDAR
