BEGIN:VCALENDAR
VERSION:2.0
PRODID:-//www.umwfoundation.org//NONSGML kigkonsult.se iCalcreator 2.30.10/
 /
CALSCALE:GREGORIAN
METHOD:PUBLISH
UID:009ce751-055f-4931-9511-23f146594e67
X-WR-CALDESC:It's that time of year again! Time to register for the 33rd An
 nual Montana Western Bulldog Athletics Scholarship Scramble. \n\n$700 team
 /4-person team\nFor $175 Per player\, you receive a full tournament packag
 e valued at just under $200\nFriday Dinner | Green Fees | Cart | Driving R
 ange | Breakfast & Lunch | Drink Tickets | Prizes | Logoed Pullover | Post
  Tournament Pizza\n\nFriday\, July 24\n5 p.m. - Registration & Welcome\n5:
 30 p.m. - Dinner\n6:30 p.m. - Calcutta\n\nSaturday\, July 25\n7:30 a.m. - 
 Check-in/Driving Range\n8:00 a.m. - Team Captain Meeting\n8:30 a.m.- Shotg
 un Start\n\nTournament is limited to 24 teams. Awards to follow tournament
 .\n\nFor more information or sponsorship opportunities\, please contact Ka
 tie Lovett. \n\nOn behalf of the athletic department\, thank you for your 
 continued support. Special thanks to our corporate sponsor\, Pioneer Feder
 al! \n
X-WR-RELCALID:353b6d79262e85419be96a94b1bce7de
X-WR-TIMEZONE:America/Denver
BEGIN:VTIMEZONE
TZID:America/Denver
BEGIN:STANDARD
TZNAME:MST
DTSTART:20251102T020000
TZOFFSETFROM:-0600
TZOFFSETTO:-0700
RDATE:20261101T020000
RDATE:20271107T020000
END:STANDARD
BEGIN:DAYLIGHT
TZNAME:MDT
DTSTART:20260308T020000
TZOFFSETFROM:-0700
TZOFFSETTO:-0600
RDATE:20270314T020000
END:DAYLIGHT
END:VTIMEZONE
BEGIN:VEVENT
UID:ecde8f54-2db9-4344-a52b-dba3f3735afb
DTSTAMP:20260423T130756Z
DESCRIPTION:It's that time of year again! Time to register for the 33rd Ann
 ual Montana Western Bulldog Athletics Scholarship Scramble. \n\n$700 team/
 4-person team\nFor $175 Per player\, you receive a full tournament package
  valued at just under $200\nFriday Dinner | Green Fees | Cart | Driving Ra
 nge | Breakfast & Lunch | Drink Tickets | Prizes | Logoed Pullover | Post 
 Tournament Pizza\n\nFriday\, July 24\n5 p.m. - Registration & Welcome\n5:3
 0 p.m. - Dinner\n6:30 p.m. - Calcutta\n\nSaturday\, July 25\n7:30 a.m. - C
 heck-in/Driving Range\n8:00 a.m. - Team Captain Meeting\n8:30 a.m.- Shotgu
 n Start\n\nTournament is limited to 24 teams. Awards to follow tournament.
 \n\nFor more information or sponsorship opportunities\, please contact Kat
 ie Lovett. \n\nOn behalf of the athletic department\, thank you for your c
 ontinued support. Special thanks to our corporate sponsor\, Pioneer Federa
 l! \n
DTSTART;TZID=America/Denver:20260724T170000
DTEND;TZID=America/Denver:20260725T170000
LOCATION:Beaverhead Golf Course
SUMMARY:Pioneer Federal - Montana Western Scholarship Golf Scramble
END:VEVENT
END:VCALENDAR
